BEGIN:VCALENDAR
VERSION:2.0
PRODID:-//The Bridges At Hanover - ECPv6.15.20//NONSGML v1.0//EN
CALSCALE:GREGORIAN
METHOD:PUBLISH
X-WR-CALNAME:The Bridges At Hanover
X-ORIGINAL-URL:https://bridgesathanover.com
X-WR-CALDESC:Events for The Bridges At Hanover
REFRESH-INTERVAL;VALUE=DURATION:PT1H
X-Robots-Tag:noindex
X-PUBLISHED-TTL:PT1H
BEGIN:VTIMEZONE
TZID:America/Chicago
BEGIN:DAYLIGHT
TZOFFSETFROM:-0600
TZOFFSETTO:-0500
TZNAME:CDT
DTSTART:20210314T080000
END:DAYLIGHT
BEGIN:STANDARD
TZOFFSETFROM:-0500
TZOFFSETTO:-0600
TZNAME:CST
DTSTART:20211107T070000
END:STANDARD
BEGIN:DAYLIGHT
TZOFFSETFROM:-0600
TZOFFSETTO:-0500
TZNAME:CDT
DTSTART:20220313T080000
END:DAYLIGHT
BEGIN:STANDARD
TZOFFSETFROM:-0500
TZOFFSETTO:-0600
TZNAME:CST
DTSTART:20221106T070000
END:STANDARD
BEGIN:DAYLIGHT
TZOFFSETFROM:-0600
TZOFFSETTO:-0500
TZNAME:CDT
DTSTART:20230312T080000
END:DAYLIGHT
BEGIN:STANDARD
TZOFFSETFROM:-0500
TZOFFSETTO:-0600
TZNAME:CST
DTSTART:20231105T070000
END:STANDARD
BEGIN:DAYLIGHT
TZOFFSETFROM:-0600
TZOFFSETTO:-0500
TZNAME:CDT
DTSTART:20240310T080000
END:DAYLIGHT
BEGIN:STANDARD
TZOFFSETFROM:-0500
TZOFFSETTO:-0600
TZNAME:CST
DTSTART:20241103T070000
END:STANDARD
END:VTIMEZONE
BEGIN:VEVENT
DTSTART;TZID=America/Chicago:20230221T193000
DTEND;TZID=America/Chicago:20230221T210000
DTSTAMP:20260423T122430
CREATED:20230130T153228Z
LAST-MODIFIED:20230130T153228Z
UID:498-1677007800-1677013200@bridgesathanover.com
SUMMARY:Board Meeting – Board Members Only
DESCRIPTION:
URL:https://bridgesathanover.com/neighborhood-event/board-meeting-board-members-only-6/
END:VEVENT
BEGIN:VEVENT
DTSTART;TZID=America/Chicago:20230124T193000
DTEND;TZID=America/Chicago:20230124T210000
DTSTAMP:20260423T122430
CREATED:20230130T153207Z
LAST-MODIFIED:20230130T153207Z
UID:496-1674588600-1674594000@bridgesathanover.com
SUMMARY:Board Meeting – Board Members Only
DESCRIPTION:
URL:https://bridgesathanover.com/neighborhood-event/board-meeting-board-members-only-5/
END:VEVENT
BEGIN:VEVENT
DTSTART;TZID=America/Chicago:20220802T180000
DTEND;TZID=America/Chicago:20220802T210000
DTSTAMP:20260423T122430
CREATED:20220109T194750Z
LAST-MODIFIED:20220109T194750Z
UID:297-1659463200-1659474000@bridgesathanover.com
SUMMARY:National Night Out
DESCRIPTION:
URL:https://bridgesathanover.com/neighborhood-event/national-night-out/
END:VEVENT
BEGIN:VEVENT
DTSTART;TZID=America/Chicago:20220516T193000
DTEND;TZID=America/Chicago:20220516T203000
DTSTAMP:20260423T122430
CREATED:20220427T213746Z
LAST-MODIFIED:20220428T032637Z
UID:387-1652729400-1652733000@bridgesathanover.com
SUMMARY:Board Meeting - Board Members Only
DESCRIPTION:
URL:https://bridgesathanover.com/neighborhood-event/board-meeting-board-members-only-4/
LOCATION:Brinkhoff’s
END:VEVENT
BEGIN:VEVENT
DTSTART;TZID=America/Chicago:20220419T190000
DTEND;TZID=America/Chicago:20220419T200000
DTSTAMP:20260423T122430
CREATED:20220109T194120Z
LAST-MODIFIED:20220301T153013Z
UID:293-1650394800-1650398400@bridgesathanover.com
SUMMARY:Annual Board Meeting - All Residents
DESCRIPTION:2022 Annual Meeting Notice _Bridges HOA
URL:https://bridgesathanover.com/neighborhood-event/annual-board-meeting-all-residents/
LOCATION:Hanover Historical Society\, 1010 River Rd NE\, Hanover\, 55341\, United States
END:VEVENT
BEGIN:VEVENT
DTSTART;TZID=America/Chicago:20220314T190000
DTEND;TZID=America/Chicago:20220314T200000
DTSTAMP:20260423T122430
CREATED:20220309T185421Z
LAST-MODIFIED:20220309T185421Z
UID:355-1647284400-1647288000@bridgesathanover.com
SUMMARY:Board Meeting - Board Members Only
DESCRIPTION:Agenda: \nReview/Update presentation for the Annual Meeting \nDetermine date for neighborhood clean up day
URL:https://bridgesathanover.com/neighborhood-event/board-meeting-board-members-only-3/
LOCATION:Hanover Historical Society\, 1010 River Rd NE\, Hanover\, 55341\, United States
END:VEVENT
BEGIN:VEVENT
DTSTART;VALUE=DATE:20220301
DTEND;VALUE=DATE:20220302
DTSTAMP:20260423T122430
CREATED:20220209T040447Z
LAST-MODIFIED:20220301T153107Z
UID:336-1646092800-1646179199@bridgesathanover.com
SUMMARY:Annual Meeting Mailing
DESCRIPTION:Check your mailboxes!  The notification with the details for the annual meeting are on their way! \n2022 Annual Meeting Notice _Bridges HOA
URL:https://bridgesathanover.com/neighborhood-event/annual-meeting-letter-mailing/
END:VEVENT
BEGIN:VEVENT
DTSTART;TZID=America/Chicago:20220222T190000
DTEND;TZID=America/Chicago:20220222T200000
DTSTAMP:20260423T122430
CREATED:20220209T032736Z
LAST-MODIFIED:20220301T191500Z
UID:332-1645556400-1645560000@bridgesathanover.com
SUMMARY:Board Meeting - Board Members Only
DESCRIPTION:HOA Meeting Minutes 2-22-22
URL:https://bridgesathanover.com/neighborhood-event/board-meeting-board-members-only-2/
LOCATION:Location TBD
END:VEVENT
BEGIN:VEVENT
DTSTART;TZID=America/Chicago:20220208T190000
DTEND;TZID=America/Chicago:20220208T200000
DTSTAMP:20260423T122430
CREATED:20220209T032456Z
LAST-MODIFIED:20220209T033621Z
UID:330-1644346800-1644350400@bridgesathanover.com
SUMMARY:Board Meeting - Board Members Only
DESCRIPTION:
URL:https://bridgesathanover.com/neighborhood-event/board-meeting-board-members-only/
END:VEVENT
BEGIN:VEVENT
DTSTART;TZID=America/Chicago:20220125T190000
DTEND;TZID=America/Chicago:20220125T203000
DTSTAMP:20260423T122430
CREATED:20220109T183938Z
LAST-MODIFIED:20220209T033639Z
UID:286-1643137200-1643142600@bridgesathanover.com
SUMMARY:Board Meeting - Board Members Only
DESCRIPTION:Agenda: \n\nWebsite Updates\nAnnual Meeting Prep\nTownhome Letter\nBudget Review\nOver-seeding\nBridge Maintenance
URL:https://bridgesathanover.com/neighborhood-event/board-meeting/
END:VEVENT
END:VCALENDAR